BEGIN:VCALENDAR
VERSION:2.0
PRODID:-//Wantirna SDA Church - ECPv5.0.2.1//NONSGML v1.0//EN
CALSCALE:GREGORIAN
METHOD:PUBLISH
X-WR-CALNAME:Wantirna SDA Church
X-ORIGINAL-URL:https://wantirna.adventist.org.au
X-WR-CALDESC:Events for Wantirna SDA Church
BEGIN:VTIMEZONE
TZID:Australia/Melbourne
BEGIN:STANDARD
TZOFFSETFROM:+1100
TZOFFSETTO:+1000
TZNAME:AEST
DTSTART:20200404T160000
END:STANDARD
BEGIN:DAYLIGHT
TZOFFSETFROM:+1000
TZOFFSETTO:+1100
TZNAME:AEDT
DTSTART:20201003T160000
END:DAYLIGHT
END:VTIMEZONE
BEGIN:VEVENT
DTSTART;TZID=Australia/Melbourne:20200201T110000
DTEND;TZID=Australia/Melbourne:20200201T121500
DTSTAMP:20200228T214753
CREATED:20200130T142643Z
LAST-MODIFIED:20200130T153702Z
UID:1798-1580554800-1580559300@wantirna.adventist.org.au
SUMMARY:Church Service
DESCRIPTION:Speaker: Tim Wilson \n
URL:https://wantirna.adventist.org.au/event/church-service-68/
CATEGORIES:Church Services
END:VEVENT
BEGIN:VEVENT
DTSTART;TZID=Australia/Melbourne:20200201T123000
DTEND;TZID=Australia/Melbourne:20200201T143000
DTSTAMP:20200228T214753
CREATED:20200130T142701Z
LAST-MODIFIED:20200130T153720Z
UID:1814-1580560200-1580567400@wantirna.adventist.org.au
SUMMARY:Church Lunch
DESCRIPTION:
URL:https://wantirna.adventist.org.au/event/church-lunch-5/
CATEGORIES:Church Event
END:VEVENT
BEGIN:VEVENT
DTSTART;TZID=Australia/Melbourne:20200201T170000
DTEND;TZID=Australia/Melbourne:20200201T200000
DTSTAMP:20200228T214753
CREATED:20200130T153718Z
LAST-MODIFIED:20200131T084523Z
UID:1844-1580576400-1580587200@wantirna.adventist.org.au
SUMMARY:Pathfinder Club Night
DESCRIPTION:
URL:https://wantirna.adventist.org.au/event/pathfinder-club-night-7/
CATEGORIES:Group Event
ATTACH;FMTTYPE=image/png:https://wantirna.adventist.org.au/wp-content/uploads/2019/02/WPC-01.png
END:VEVENT
END:VCALENDAR