BEGIN:VCALENDAR
VERSION:2.0
PRODID:-//Wantirna SDA Church - ECPv5.0.2.1//NONSGML v1.0//EN
CALSCALE:GREGORIAN
METHOD:PUBLISH
X-WR-CALNAME:Wantirna SDA Church
X-ORIGINAL-URL:https://wantirna.adventist.org.au
X-WR-CALDESC:Events for Wantirna SDA Church
BEGIN:VTIMEZONE
TZID:Australia/Melbourne
BEGIN:STANDARD
TZOFFSETFROM:+1100
TZOFFSETTO:+1000
TZNAME:AEST
DTSTART:20200404T160000
END:STANDARD
BEGIN:DAYLIGHT
TZOFFSETFROM:+1000
TZOFFSETTO:+1100
TZNAME:AEDT
DTSTART:20201003T160000
END:DAYLIGHT
END:VTIMEZONE
BEGIN:VEVENT
DTSTART;VALUE=DATE:20200221
DTEND;VALUE=DATE:20200224
DTSTAMP:20200228T220006
CREATED:20200130T142657Z
LAST-MODIFIED:20200131T084419Z
UID:1809-1582243200-1582502399@wantirna.adventist.org.au
SUMMARY:Pathfinder Water Ski Camp W/E
DESCRIPTION:
URL:https://wantirna.adventist.org.au/event/pathfinder-water-ski-camp-w-e-2/
CATEGORIES:Group Event
ATTACH;FMTTYPE=image/png:https://wantirna.adventist.org.au/wp-content/uploads/2019/02/WPC-01.png
END:VEVENT
BEGIN:VEVENT
DTSTART;TZID=Australia/Melbourne:20200222T110000
DTEND;TZID=Australia/Melbourne:20200222T121500
DTSTAMP:20200228T220006
CREATED:20200130T142652Z
LAST-MODIFIED:20200131T055026Z
UID:1801-1582369200-1582373700@wantirna.adventist.org.au
SUMMARY:Church Service
DESCRIPTION:Speaker: Pastor Yoshi (Yong Shin Chee) \n
URL:https://wantirna.adventist.org.au/event/church-service-71/
CATEGORIES:Church Services
ATTACH;FMTTYPE=image/jpeg:https://wantirna.adventist.org.au/wp-content/uploads/2017/11/YongShinChee-e1511420101303.jpeg
END:VEVENT
END:VCALENDAR