BEGIN:VCALENDAR
VERSION:2.0
PRODID:-//Wantirna SDA Church - ECPv5.3.1.1//NONSGML v1.0//EN
CALSCALE:GREGORIAN
METHOD:PUBLISH
X-WR-CALNAME:Wantirna SDA Church
X-ORIGINAL-URL:https://wantirna.adventist.org.au
X-WR-CALDESC:Events for Wantirna SDA Church
BEGIN:VTIMEZONE
TZID:Australia/Melbourne
BEGIN:STANDARD
TZOFFSETFROM:+1100
TZOFFSETTO:+1000
TZNAME:AEST
DTSTART:20210403T160000
END:STANDARD
BEGIN:DAYLIGHT
TZOFFSETFROM:+1000
TZOFFSETTO:+1100
TZNAME:AEDT
DTSTART:20211002T160000
END:DAYLIGHT
END:VTIMEZONE
BEGIN:VEVENT
DTSTART;TZID=Australia/Melbourne:20210206T110000
DTEND;TZID=Australia/Melbourne:20210206T121500
DTSTAMP:20210225T023802
CREATED:20210223T080514Z
LAST-MODIFIED:20210223T080514Z
UID:2764-1612609200-1612613700@wantirna.adventist.org.au
SUMMARY:Church Service
DESCRIPTION:Speaker: Pastor Yoshi
URL:https://wantirna.adventist.org.au/event/church-service-82/
END:VEVENT
BEGIN:VEVENT
DTSTART;TZID=Australia/Melbourne:20210213T110000
DTEND;TZID=Australia/Melbourne:20210213T121500
DTSTAMP:20210225T023802
CREATED:20210223T080515Z
LAST-MODIFIED:20210223T080515Z
UID:2765-1613214000-1613218500@wantirna.adventist.org.au
SUMMARY:Church Service
DESCRIPTION:Speaker: Pastor Yoshi
URL:https://wantirna.adventist.org.au/event/church-service-83/
END:VEVENT
BEGIN:VEVENT
DTSTART;TZID=Australia/Melbourne:20210215T193000
DTEND;TZID=Australia/Melbourne:20210215T203000
DTSTAMP:20210225T023802
CREATED:20210223T080515Z
LAST-MODIFIED:20210223T080515Z
UID:2766-1613417400-1613421000@wantirna.adventist.org.au
SUMMARY:Board Meeting
DESCRIPTION:
URL:https://wantirna.adventist.org.au/event/board-meeting-7/
END:VEVENT
BEGIN:VEVENT
DTSTART;TZID=Australia/Melbourne:20210217T100000
DTEND;TZID=Australia/Melbourne:20210217T100000
DTSTAMP:20210225T023802
CREATED:20210223T095227Z
LAST-MODIFIED:20210223T095227Z
UID:2835-1613556000-1613556000@wantirna.adventist.org.au
SUMMARY:Little Steps
DESCRIPTION:
URL:https://wantirna.adventist.org.au/event/little-steps/
END:VEVENT
BEGIN:VEVENT
DTSTART;TZID=Australia/Melbourne:20210218T090000
DTEND;TZID=Australia/Melbourne:20210218T090000
DTSTAMP:20210225T023802
CREATED:20210223T092219Z
LAST-MODIFIED:20210223T092219Z
UID:2790-1613638800-1613638800@wantirna.adventist.org.au
SUMMARY:Friendship Group
DESCRIPTION:
URL:https://wantirna.adventist.org.au/event/friendship-group/
END:VEVENT
BEGIN:VEVENT
DTSTART;TZID=Australia/Melbourne:20210220T110000
DTEND;TZID=Australia/Melbourne:20210220T121500
DTSTAMP:20210225T023802
CREATED:20210223T080515Z
LAST-MODIFIED:20210223T080515Z
UID:2767-1613818800-1613823300@wantirna.adventist.org.au
SUMMARY:Church Service
DESCRIPTION:Speaker: Julie Millett
URL:https://wantirna.adventist.org.au/event/church-service-84/
END:VEVENT
BEGIN:VEVENT
DTSTART;TZID=Australia/Melbourne:20210224T100000
DTEND;TZID=Australia/Melbourne:20210224T100000
DTSTAMP:20210225T023802
CREATED:20210223T095227Z
LAST-MODIFIED:20210223T095227Z
UID:2836-1614160800-1614160800@wantirna.adventist.org.au
SUMMARY:Little Steps
DESCRIPTION:
URL:https://wantirna.adventist.org.au/event/little-steps-2/
END:VEVENT
BEGIN:VEVENT
DTSTART;TZID=Australia/Melbourne:20210224T190000
DTEND;TZID=Australia/Melbourne:20210224T210000
DTSTAMP:20210225T023802
CREATED:20210223T102057Z
LAST-MODIFIED:20210223T102057Z
UID:2881-1614193200-1614200400@wantirna.adventist.org.au
SUMMARY:Young Adults Get-together
DESCRIPTION:
URL:https://wantirna.adventist.org.au/event/young-adults-get-together/
END:VEVENT
BEGIN:VEVENT
DTSTART;TZID=Australia/Melbourne:20210225T090000
DTEND;TZID=Australia/Melbourne:20210225T090000
DTSTAMP:20210225T023802
CREATED:20210223T092220Z
LAST-MODIFIED:20210223T092220Z
UID:2791-1614243600-1614243600@wantirna.adventist.org.au
SUMMARY:Friendship Group
DESCRIPTION:
URL:https://wantirna.adventist.org.au/event/friendship-group-2/
END:VEVENT
BEGIN:VEVENT
DTSTART;TZID=Australia/Melbourne:20210227T110000
DTEND;TZID=Australia/Melbourne:20210227T121500
DTSTAMP:20210225T023802
CREATED:20210223T080515Z
LAST-MODIFIED:20210223T080515Z
UID:2768-1614423600-1614428100@wantirna.adventist.org.au
SUMMARY:Church Service
DESCRIPTION:Speaker: Pastor Dan
URL:https://wantirna.adventist.org.au/event/church-service-85/
END:VEVENT
END:VCALENDAR